BEGIN:VCALENDAR
VERSION:2.0
PRODID:-//eventon.com NONSGML v1.0//EN
BEGIN:VEVENT
UID:69e7732949051
DTSTAMP:20260421T155257
DTSTART:20260523T090000Z
DTEND:20260523T205000Z
LOCATION:
SUMMARY:Русалочка
DESCRIPTION: Русалочка
END:VEVENT
END:VCALENDAR