BEGIN:VCALENDAR
VERSION:2.0
PRODID:-//eventon.com NONSGML v1.0//EN
BEGIN:VEVENT
UID:69e773a547159
DTSTAMP:20260421T155501
DTSTART:20260524T133000Z
DTEND:20260524T205000Z
LOCATION:
SUMMARY:Гном и Изюмка (МАЛАЯ СЦЕНА)
DESCRIPTION: Гном и Изюмка (МАЛАЯ СЦЕНА)
END:VEVENT
END:VCALENDAR