BEGIN:VCALENDAR
VERSION:2.0
PRODID:-//eventon.com NONSGML v1.0//EN
BEGIN:VEVENT
UID:69e7730fc9d66
DTSTAMP:20260421T155231
DTSTART:20260430T150000Z
DTEND:20260430T205000Z
LOCATION:
SUMMARY:Приятного аппетита\,  Тигрёнок! (МАЛАЯ СЦЕНА)
DESCRIPTION: Приятного аппетита\,  Тигрёнок! (МАЛАЯ СЦЕНА)
END:VEVENT
END:VCALENDAR