BEGIN:VCALENDAR
VERSION:2.0
PRODID:-//eventon.com NONSGML v1.0//EN
BEGIN:VEVENT
UID:69e773c55f06b
DTSTAMP:20260421T155533
DTSTART:20260517T090000Z
DTEND:20260517T205000Z
LOCATION:
SUMMARY:Колобок
DESCRIPTION: Колобок
END:VEVENT
END:VCALENDAR