BEGIN:VCALENDAR
VERSION:2.0
PRODID:-//eventon.com NONSGML v1.0//EN
BEGIN:VEVENT
UID:69e773629a241
DTSTAMP:20260421T155354
DTSTART:20260531T090000Z
DTEND:20260531T205000Z
LOCATION:
SUMMARY:Три поросёнка ... лет спустя
DESCRIPTION: Три поросёнка ... лет спустя
END:VEVENT
END:VCALENDAR