BEGIN:VCALENDAR
VERSION:2.0
PRODID:-//eventon.com NONSGML v1.0//EN
BEGIN:VEVENT
UID:69e773ba859ff
DTSTAMP:20260421T155522
DTSTART:20260510T090000Z
DTEND:20260510T205000Z
LOCATION:
SUMMARY:Огниво
DESCRIPTION: Огниво
END:VEVENT
END:VCALENDAR