BEGIN:VCALENDAR
VERSION:2.0
PRODID:-//eventon.com NONSGML v1.0//EN
BEGIN:VEVENT
UID:69e7734e1cdb7
DTSTAMP:20260421T155334
DTSTART:20260506T160000Z
DTEND:20260506T205000Z
LOCATION:
SUMMARY:Фонарь Диогена (малая сцена)
DESCRIPTION: Фонарь Диогена (малая сцена)
END:VEVENT
END:VCALENDAR