BEGIN:VCALENDAR
VERSION:2.0
PRODID:-//eventon.com NONSGML v1.0//EN
BEGIN:VEVENT
UID:69e77353a6b73
DTSTAMP:20260421T155339
DTSTART:20260513T160000Z
DTEND:20260513T205000Z
LOCATION:
SUMMARY:Тартюф\,  или Обманщик
DESCRIPTION: Тартюф\,  или Обманщик
END:VEVENT
END:VCALENDAR