BEGIN:VCALENDAR
VERSION:2.0
PRODID:-//eventon.com NONSGML v1.0//EN
BEGIN:VEVENT
UID:69e77283de531
DTSTAMP:20260421T155011
DTSTART:20260426T160000Z
DTEND:20260426T183000Z
LOCATION:
SUMMARY:"Свадьба Кречинского". Театр "Версия" г. Саратов
DESCRIPTION: "Свадьба Кречинского". Театр "Версия" г. Саратов
END:VEVENT
END:VCALENDAR