BEGIN:VCALENDAR
VERSION:2.0
PRODID:-//eventon.com NONSGML v1.0//EN
BEGIN:VEVENT
UID:69e77289d6a7b
DTSTAMP:20260421T155017
DTSTART:20260426T090000Z
DTEND:20260426T100000Z
LOCATION:
SUMMARY:"Пеппи Длинныйчулок". Театр "Версия" г. Саратов
DESCRIPTION: "Пеппи Длинныйчулок". Театр "Версия" г. Саратов
END:VEVENT
END:VCALENDAR