BEGIN:VCALENDAR
VERSION:2.0
PRODID:-//eventon.com NONSGML v1.0//EN
BEGIN:VEVENT
UID:69e77245b0538
DTSTAMP:20260421T154909
DTSTART:20260425T090000Z
DTEND:20260425T113000Z
LOCATION:
SUMMARY:"Остров сокровищ". Театр "Версия" г. Саратов
DESCRIPTION: "Остров сокровищ". Театр "Версия" г. Саратов
END:VEVENT
END:VCALENDAR