BEGIN:VCALENDAR
VERSION:2.0
PRODID:-//eventon.com NONSGML v1.0//EN
BEGIN:VEVENT
UID:69e77235968e6
DTSTAMP:20260421T154853
DTSTART:20260511T150000Z
DTEND:20260511T163000Z
LOCATION:
SUMMARY:Чудь. (МАЛАЯ СЦЕНА)
DESCRIPTION: Чудь. (МАЛАЯ СЦЕНА)
END:VEVENT
END:VCALENDAR