BEGIN:VCALENDAR
VERSION:2.0
PRODID:-//eventon.com NONSGML v1.0//EN
BEGIN:VEVENT
UID:69e772804d000
DTSTAMP:20260421T155008
DTSTART:20260510T150000Z
DTEND:20260510T150000Z
LOCATION:
SUMMARY:Абсолютно правдивая история (МАЛАЯ СЦЕНА)
DESCRIPTION: Абсолютно правдивая история (МАЛАЯ СЦЕНА)
END:VEVENT
END:VCALENDAR